BEGIN:VCALENDAR
VERSION:2.0
PRODID:-//hacksw/handcal//NONSGML v1.0//EN
CALSCALE:GREGORIAN
BEGIN:VEVENT
ORGANIZER;CN=UFP Industries, Inc.:MAILTO:no-reply@mail.gcs-web.com
DTEND:
UID:93746c8b-cd92-459a-9549-86de0ad02f32
DTSTAMP:1776938054
LOCATION:https://edge.media-server.com/mmc/p/7czr42fo/
DESCRIPTION:Event Details https://www.ufpinvestor.com/events/event-details/q1-2026-ufp-industries-inc-earnings-conference-call\n\nWebcast: https://edge.media-server.com/mmc/p/7czr42fo/
URL;VALUE=URI:https://edge.media-server.com/mmc/p/7czr42fo/
SUMMARY:UFP Industries, Inc. - Q1 2026 UFP Industries, Inc. Earnings Conference Call
DTSTART:20260430T140000Z
END:VEVENT
END:VCALENDAR